BEGIN:VCALENDAR
VERSION:2.0
PRODID:-//Roli Roti - ECPv6.15.20//NONSGML v1.0//EN
CALSCALE:GREGORIAN
METHOD:PUBLISH
X-ORIGINAL-URL:https://roliroti.com
X-WR-CALDESC:Events for Roli Roti
REFRESH-INTERVAL;VALUE=DURATION:PT1H
X-Robots-Tag:noindex
X-PUBLISHED-TTL:PT1H
BEGIN:VTIMEZONE
TZID:America/Los_Angeles
BEGIN:DAYLIGHT
TZOFFSETFROM:-0800
TZOFFSETTO:-0700
TZNAME:PDT
DTSTART:20190310T100000
END:DAYLIGHT
BEGIN:STANDARD
TZOFFSETFROM:-0700
TZOFFSETTO:-0800
TZNAME:PST
DTSTART:20191103T090000
END:STANDARD
BEGIN:DAYLIGHT
TZOFFSETFROM:-0800
TZOFFSETTO:-0700
TZNAME:PDT
DTSTART:20200308T100000
END:DAYLIGHT
BEGIN:STANDARD
TZOFFSETFROM:-0700
TZOFFSETTO:-0800
TZNAME:PST
DTSTART:20201101T090000
END:STANDARD
BEGIN:DAYLIGHT
TZOFFSETFROM:-0800
TZOFFSETTO:-0700
TZNAME:PDT
DTSTART:20210314T100000
END:DAYLIGHT
BEGIN:STANDARD
TZOFFSETFROM:-0700
TZOFFSETTO:-0800
TZNAME:PST
DTSTART:20211107T090000
END:STANDARD
BEGIN:DAYLIGHT
TZOFFSETFROM:-0800
TZOFFSETTO:-0700
TZNAME:PDT
DTSTART:20220313T100000
END:DAYLIGHT
BEGIN:STANDARD
TZOFFSETFROM:-0700
TZOFFSETTO:-0800
TZNAME:PST
DTSTART:20221106T090000
END:STANDARD
BEGIN:DAYLIGHT
TZOFFSETFROM:-0800
TZOFFSETTO:-0700
TZNAME:PDT
DTSTART:20230312T100000
END:DAYLIGHT
BEGIN:STANDARD
TZOFFSETFROM:-0700
TZOFFSETTO:-0800
TZNAME:PST
DTSTART:20231105T090000
END:STANDARD
END:VTIMEZONE
BEGIN:VTIMEZONE
TZID:Pacific/Honolulu
BEGIN:STANDARD
TZOFFSETFROM:-1000
TZOFFSETTO:-1000
TZNAME:HST
DTSTART:20180101T000000
END:STANDARD
END:VTIMEZONE
BEGIN:VEVENT
DTSTART;TZID=America/Los_Angeles:20220109T090000
DTEND;TZID=America/Los_Angeles:20220109T130000
DTSTAMP:20260423T090720
CREATED:20211225T185455Z
LAST-MODIFIED:20220906T223848Z
UID:16789-1641718800-1641733200@roliroti.com
SUMMARY:Stonestown
DESCRIPTION:
URL:https://roliroti.com/event/stonestown-9/2022-01-09/
LOCATION:Stonestown\, 3251 20th Ave\, San Francisco\, CA\, 94132\, United States
END:VEVENT
BEGIN:VEVENT
DTSTART;TZID=America/Los_Angeles:20210214T090000
DTEND;TZID=America/Los_Angeles:20210214T130000
DTSTAMP:20260423T090720
CREATED:20210206T182718Z
LAST-MODIFIED:20210206T182718Z
UID:16553-1613293200-1613307600@roliroti.com
SUMMARY:Stonestown
DESCRIPTION:
URL:https://roliroti.com/event/stonestown-7/2021-02-14/
LOCATION:Stonestown\, 3251 20th Ave\, San Francisco\, CA\, 94132\, United States
END:VEVENT
BEGIN:VEVENT
DTSTART;TZID=America/Los_Angeles:20210207T090000
DTEND;TZID=America/Los_Angeles:20210207T130000
DTSTAMP:20260423T090720
CREATED:20210131T184031Z
LAST-MODIFIED:20210131T184031Z
UID:16509-1612688400-1612702800@roliroti.com
SUMMARY:Stonestown
DESCRIPTION:
URL:https://roliroti.com/event/stonestown-6/
LOCATION:Stonestown\, 3251 20th Ave\, San Francisco\, CA\, 94132\, United States
END:VEVENT
BEGIN:VEVENT
DTSTART;TZID=America/Los_Angeles:20210103T090000
DTEND;TZID=America/Los_Angeles:20210103T130000
DTSTAMP:20260423T090720
CREATED:20201228T160605Z
LAST-MODIFIED:20201228T160605Z
UID:16480-1609664400-1609678800@roliroti.com
SUMMARY:Stonestown
DESCRIPTION:
URL:https://roliroti.com/event/stonestown-5/2021-01-03/
LOCATION:Stonestown\, 3251 20th Ave\, San Francisco\, CA\, 94132\, United States
END:VEVENT
BEGIN:VEVENT
DTSTART;TZID=America/Los_Angeles:20200209T090000
DTEND;TZID=America/Los_Angeles:20200209T130000
DTSTAMP:20260423T090720
CREATED:20200131T214947Z
LAST-MODIFIED:20200131T214947Z
UID:16439-1581238800-1581253200@roliroti.com
SUMMARY:Stonestown
DESCRIPTION:
URL:https://roliroti.com/event/stonestown-4/2020-02-09/
LOCATION:Stonestown\, 3251 20th Ave\, San Francisco\, CA\, 94132\, United States
END:VEVENT
BEGIN:VEVENT
DTSTART;TZID=America/Los_Angeles:20200202T090000
DTEND;TZID=America/Los_Angeles:20200202T130000
DTSTAMP:20260423T090720
CREATED:20200127T182519Z
LAST-MODIFIED:20200127T182519Z
UID:16418-1580634000-1580648400@roliroti.com
SUMMARY:Stonestown
DESCRIPTION:
URL:https://roliroti.com/event/stonestown-3/
LOCATION:Stonestown\, 3251 20th Ave\, San Francisco\, CA\, 94132\, United States
END:VEVENT
BEGIN:VEVENT
DTSTART;TZID=America/Los_Angeles:20200126T090000
DTEND;TZID=America/Los_Angeles:20200126T130000
DTSTAMP:20260423T090720
CREATED:20200122T231638Z
LAST-MODIFIED:20200122T231638Z
UID:16402-1580029200-1580043600@roliroti.com
SUMMARY:Stonestown
DESCRIPTION:
URL:https://roliroti.com/event/stonestown-2/
LOCATION:Stonestown\, 3251 20th Ave\, San Francisco\, CA\, 94132\, United States
END:VEVENT
BEGIN:VEVENT
DTSTART;TZID=Pacific/Honolulu:20190505T090000
DTEND;TZID=Pacific/Honolulu:20190505T130000
DTSTAMP:20260423T090720
CREATED:20190420T011241Z
LAST-MODIFIED:20190420T011241Z
UID:16371-1557046800-1557061200@roliroti.com
SUMMARY:Stonestown
DESCRIPTION:
URL:https://roliroti.com/event/stonestown/2019-05-05/
LOCATION:Stonestown\, 3251 20th Ave\, San Francisco\, CA\, 94132\, United States
END:VEVENT
END:VCALENDAR