BEGIN:VCALENDAR
VERSION:2.0
PRODID:-//Roli Roti - ECPv6.15.20//NONSGML v1.0//EN
CALSCALE:GREGORIAN
METHOD:PUBLISH
X-WR-CALNAME:Roli Roti
X-ORIGINAL-URL:https://roliroti.com
X-WR-CALDESC:Events for Roli Roti
REFRESH-INTERVAL;VALUE=DURATION:PT1H
X-Robots-Tag:noindex
X-PUBLISHED-TTL:PT1H
BEGIN:VTIMEZONE
TZID:America/Los_Angeles
BEGIN:DAYLIGHT
TZOFFSETFROM:-0800
TZOFFSETTO:-0700
TZNAME:PDT
DTSTART:20210314T100000
END:DAYLIGHT
BEGIN:STANDARD
TZOFFSETFROM:-0700
TZOFFSETTO:-0800
TZNAME:PST
DTSTART:20211107T090000
END:STANDARD
BEGIN:DAYLIGHT
TZOFFSETFROM:-0800
TZOFFSETTO:-0700
TZNAME:PDT
DTSTART:20220313T100000
END:DAYLIGHT
BEGIN:STANDARD
TZOFFSETFROM:-0700
TZOFFSETTO:-0800
TZNAME:PST
DTSTART:20221106T090000
END:STANDARD
BEGIN:DAYLIGHT
TZOFFSETFROM:-0800
TZOFFSETTO:-0700
TZNAME:PDT
DTSTART:20230312T100000
END:DAYLIGHT
BEGIN:STANDARD
TZOFFSETFROM:-0700
TZOFFSETTO:-0800
TZNAME:PST
DTSTART:20231105T090000
END:STANDARD
BEGIN:DAYLIGHT
TZOFFSETFROM:-0800
TZOFFSETTO:-0700
TZNAME:PDT
DTSTART:20240310T100000
END:DAYLIGHT
BEGIN:STANDARD
TZOFFSETFROM:-0700
TZOFFSETTO:-0800
TZNAME:PST
DTSTART:20241103T090000
END:STANDARD
BEGIN:DAYLIGHT
TZOFFSETFROM:-0800
TZOFFSETTO:-0700
TZNAME:PDT
DTSTART:20250309T100000
END:DAYLIGHT
BEGIN:STANDARD
TZOFFSETFROM:-0700
TZOFFSETTO:-0800
TZNAME:PST
DTSTART:20251102T090000
END:STANDARD
BEGIN:DAYLIGHT
TZOFFSETFROM:-0800
TZOFFSETTO:-0700
TZNAME:PDT
DTSTART:20260308T100000
END:DAYLIGHT
BEGIN:STANDARD
TZOFFSETFROM:-0700
TZOFFSETTO:-0800
TZNAME:PST
DTSTART:20261101T090000
END:STANDARD
BEGIN:DAYLIGHT
TZOFFSETFROM:-0800
TZOFFSETTO:-0700
TZNAME:PDT
DTSTART:20270314T100000
END:DAYLIGHT
BEGIN:STANDARD
TZOFFSETFROM:-0700
TZOFFSETTO:-0800
TZNAME:PST
DTSTART:20271107T090000
END:STANDARD
END:VTIMEZONE
BEGIN:VEVENT
DTSTART;TZID=America/Los_Angeles:20260418T090000
DTEND;TZID=America/Los_Angeles:20260418T130000
DTSTAMP:20260421T192528
CREATED:20230729T013133Z
LAST-MODIFIED:20230729T013133Z
UID:24246-1776502800-1776517200@roliroti.com
SUMMARY:Saratoga Farmers Market
DESCRIPTION:
URL:https://roliroti.com/event/saratoga-farmers-market-8/2026-04-18/
LOCATION:Saratoga Farmer’s Market\, Allendale Ave & Science Way\, Saratoga\, CA\, 95070\, United States
END:VEVENT
BEGIN:VEVENT
DTSTART;TZID=America/Los_Angeles:20230107T090000
DTEND;TZID=America/Los_Angeles:20230107T130000
DTSTAMP:20260421T192528
CREATED:20230103T174301Z
LAST-MODIFIED:20230729T013019Z
UID:18552-1673082000-1673096400@roliroti.com
SUMMARY:Saratoga Farmers Market
DESCRIPTION:
URL:https://roliroti.com/event/saratoga-farmers-market-7/2023-01-07/
LOCATION:Saratoga Farmer’s Market\, Allendale Ave & Science Way\, Saratoga\, CA\, 95070\, United States
END:VEVENT
BEGIN:VEVENT
DTSTART;TZID=America/Los_Angeles:20220430T090000
DTEND;TZID=America/Los_Angeles:20220430T130000
DTSTAMP:20260421T192528
CREATED:20220428T185105Z
LAST-MODIFIED:20220906T223657Z
UID:17239-1651309200-1651323600@roliroti.com
SUMMARY:Saratoga Famers Market
DESCRIPTION:
URL:https://roliroti.com/event/saratoga-famers-market/2022-04-30/
LOCATION:Saratoga Farmer’s Market\, Allendale Ave & Science Way\, Saratoga\, CA\, 95070\, United States
END:VEVENT
END:VCALENDAR