BEGIN:VCALENDAR
VERSION:2.0
PRODID:-//Roli Roti - ECPv6.15.20//NONSGML v1.0//EN
CALSCALE:GREGORIAN
METHOD:PUBLISH
X-WR-CALNAME:Roli Roti
X-ORIGINAL-URL:https://roliroti.com
X-WR-CALDESC:Events for Roli Roti
REFRESH-INTERVAL;VALUE=DURATION:PT1H
X-Robots-Tag:noindex
X-PUBLISHED-TTL:PT1H
BEGIN:VTIMEZONE
TZID:America/Los_Angeles
BEGIN:DAYLIGHT
TZOFFSETFROM:-0800
TZOFFSETTO:-0700
TZNAME:PDT
DTSTART:20190310T100000
END:DAYLIGHT
BEGIN:STANDARD
TZOFFSETFROM:-0700
TZOFFSETTO:-0800
TZNAME:PST
DTSTART:20191103T090000
END:STANDARD
BEGIN:DAYLIGHT
TZOFFSETFROM:-0800
TZOFFSETTO:-0700
TZNAME:PDT
DTSTART:20200308T100000
END:DAYLIGHT
BEGIN:STANDARD
TZOFFSETFROM:-0700
TZOFFSETTO:-0800
TZNAME:PST
DTSTART:20201101T090000
END:STANDARD
BEGIN:DAYLIGHT
TZOFFSETFROM:-0800
TZOFFSETTO:-0700
TZNAME:PDT
DTSTART:20210314T100000
END:DAYLIGHT
BEGIN:STANDARD
TZOFFSETFROM:-0700
TZOFFSETTO:-0800
TZNAME:PST
DTSTART:20211107T090000
END:STANDARD
BEGIN:DAYLIGHT
TZOFFSETFROM:-0800
TZOFFSETTO:-0700
TZNAME:PDT
DTSTART:20220313T100000
END:DAYLIGHT
BEGIN:STANDARD
TZOFFSETFROM:-0700
TZOFFSETTO:-0800
TZNAME:PST
DTSTART:20221106T090000
END:STANDARD
END:VTIMEZONE
BEGIN:VTIMEZONE
TZID:Pacific/Honolulu
BEGIN:STANDARD
TZOFFSETFROM:-1000
TZOFFSETTO:-1000
TZNAME:HST
DTSTART:20180101T000000
END:STANDARD
END:VTIMEZONE
BEGIN:VEVENT
DTSTART;TZID=America/Los_Angeles:20210505T160000
DTEND;TZID=America/Los_Angeles:20210505T200000
DTSTAMP:20260423T091319
CREATED:20210503T170821Z
LAST-MODIFIED:20210503T170821Z
UID:16574-1620230400-1620244800@roliroti.com
SUMMARY:Cambrian Park San Jose Farmers' Market
DESCRIPTION:
URL:https://roliroti.com/event/cambrian-park-san-jose-farmers-market/2021-05-05/
LOCATION:San Jose Cambrian Park Farmer’s Market\, Camden Ave & Union Ave.\, San Jose\, CA\, 95124\, United States
END:VEVENT
BEGIN:VEVENT
DTSTART;TZID=America/Los_Angeles:20200527T160000
DTEND;TZID=America/Los_Angeles:20200527T200000
DTSTAMP:20260423T091319
CREATED:20200525T042309Z
LAST-MODIFIED:20200525T042309Z
UID:16448-1590595200-1590609600@roliroti.com
SUMMARY:Cambrian Park Farmers' Market
DESCRIPTION:
URL:https://roliroti.com/event/cambrian-park-farmers-market/2020-05-27/
LOCATION:San Jose Cambrian Park Farmer’s Market\, Camden Ave & Union Ave.\, San Jose\, CA\, 95124\, United States
END:VEVENT
BEGIN:VEVENT
DTSTART;TZID=Pacific/Honolulu:20190501T160000
DTEND;TZID=Pacific/Honolulu:20190501T200000
DTSTAMP:20260423T091319
CREATED:20190430T043034Z
LAST-MODIFIED:20190430T043034Z
UID:16376-1556726400-1556740800@roliroti.com
SUMMARY:San Jose Cambrian Park Farmer's Market
DESCRIPTION:
URL:https://roliroti.com/event/san-jose-cambrian-park-farmers-market/2019-05-01/
LOCATION:San Jose Cambrian Park Farmer’s Market\, Camden Ave & Union Ave.\, San Jose\, CA\, 95124\, United States
END:VEVENT
END:VCALENDAR