BEGIN:VCALENDAR
VERSION:2.0
PRODID:-//Roli Roti - ECPv6.15.20//NONSGML v1.0//EN
CALSCALE:GREGORIAN
METHOD:PUBLISH
X-WR-CALNAME:Roli Roti
X-ORIGINAL-URL:https://roliroti.com
X-WR-CALDESC:Events for Roli Roti
REFRESH-INTERVAL;VALUE=DURATION:PT1H
X-Robots-Tag:noindex
X-PUBLISHED-TTL:PT1H
BEGIN:VTIMEZONE
TZID:America/Los_Angeles
BEGIN:DAYLIGHT
TZOFFSETFROM:-0800
TZOFFSETTO:-0700
TZNAME:PDT
DTSTART:20220313T100000
END:DAYLIGHT
BEGIN:STANDARD
TZOFFSETFROM:-0700
TZOFFSETTO:-0800
TZNAME:PST
DTSTART:20221106T090000
END:STANDARD
BEGIN:DAYLIGHT
TZOFFSETFROM:-0800
TZOFFSETTO:-0700
TZNAME:PDT
DTSTART:20230312T100000
END:DAYLIGHT
BEGIN:STANDARD
TZOFFSETFROM:-0700
TZOFFSETTO:-0800
TZNAME:PST
DTSTART:20231105T090000
END:STANDARD
BEGIN:DAYLIGHT
TZOFFSETFROM:-0800
TZOFFSETTO:-0700
TZNAME:PDT
DTSTART:20240310T100000
END:DAYLIGHT
BEGIN:STANDARD
TZOFFSETFROM:-0700
TZOFFSETTO:-0800
TZNAME:PST
DTSTART:20241103T090000
END:STANDARD
BEGIN:DAYLIGHT
TZOFFSETFROM:-0800
TZOFFSETTO:-0700
TZNAME:PDT
DTSTART:20250309T100000
END:DAYLIGHT
BEGIN:STANDARD
TZOFFSETFROM:-0700
TZOFFSETTO:-0800
TZNAME:PST
DTSTART:20251102T090000
END:STANDARD
BEGIN:DAYLIGHT
TZOFFSETFROM:-0800
TZOFFSETTO:-0700
TZNAME:PDT
DTSTART:20260308T100000
END:DAYLIGHT
BEGIN:STANDARD
TZOFFSETFROM:-0700
TZOFFSETTO:-0800
TZNAME:PST
DTSTART:20261101T090000
END:STANDARD
BEGIN:DAYLIGHT
TZOFFSETFROM:-0800
TZOFFSETTO:-0700
TZNAME:PDT
DTSTART:20270314T100000
END:DAYLIGHT
BEGIN:STANDARD
TZOFFSETFROM:-0700
TZOFFSETTO:-0800
TZNAME:PST
DTSTART:20271107T090000
END:STANDARD
END:VTIMEZONE
BEGIN:VEVENT
DTSTART;TZID=America/Los_Angeles:20231212T150000
DTEND;TZID=America/Los_Angeles:20231212T190000
DTSTAMP:20260420T204403
CREATED:20231207T020329Z
LAST-MODIFIED:20231207T020329Z
UID:20412-1702393200-1702407600@roliroti.com
SUMMARY:Monterey Farmer's Market
DESCRIPTION:
URL:https://roliroti.com/event/monterey-farmers-market-2/
LOCATION:The Farmer’s Market at Old Monterey Marketplace\, Alvarado Street\, Monterey\, CA\, 93940\, United States
END:VEVENT
BEGIN:VEVENT
DTSTART;TZID=America/Los_Angeles:20240104T150000
DTEND;TZID=America/Los_Angeles:20240104T190000
DTSTAMP:20260420T204403
CREATED:20231230T015531Z
LAST-MODIFIED:20231230T015531Z
UID:20573-1704380400-1704394800@roliroti.com
SUMMARY:DeMartini Orchard
DESCRIPTION:
URL:https://roliroti.com/event/demartini-orchard-4/
LOCATION:De Martini Orchards\, 66 N San Antonio Rd\, Los Altos\, CA\, 94022\, United States
END:VEVENT
BEGIN:VEVENT
DTSTART;TZID=America/Los_Angeles:20240106T090000
DTEND;TZID=America/Los_Angeles:20240106T140000
DTSTAMP:20260420T204403
CREATED:20231230T015801Z
LAST-MODIFIED:20231230T015801Z
UID:20574-1704531600-1704549600@roliroti.com
SUMMARY:San Francisco Ferry Building
DESCRIPTION:
URL:https://roliroti.com/event/san-francisco-ferry-building-22/
LOCATION:San Francisco Ferry Building\, 1 The Embarcadero\, San Francisco\, CA\, 94105\, United States
END:VEVENT
BEGIN:VEVENT
DTSTART;TZID=America/Los_Angeles:20240107T090000
DTEND;TZID=America/Los_Angeles:20240107T130000
DTSTAMP:20260420T204403
CREATED:20231230T015917Z
LAST-MODIFIED:20231230T015917Z
UID:20575-1704618000-1704632400@roliroti.com
SUMMARY:Montclair Farmers’ Market
DESCRIPTION:
URL:https://roliroti.com/event/montclair-farmers-market-11/
LOCATION:Montclair Farmer’s Market\, La Salle Ave between Mountain and Moraga Ave.\, Oakland\, CA\, 94611\, United States
END:VEVENT
BEGIN:VEVENT
DTSTART;TZID=America/Los_Angeles:20240109T150000
DTEND;TZID=America/Los_Angeles:20240109T150000
DTSTAMP:20260420T204403
CREATED:20240112T173111Z
LAST-MODIFIED:20241111T213632Z
UID:20933-1704812400-1704812400@roliroti.com
SUMMARY:Nob Hill SF
DESCRIPTION:
URL:https://roliroti.com/event/nob-hill-sf/
END:VEVENT
BEGIN:VEVENT
DTSTART;TZID=America/Los_Angeles:20240203T090000
DTEND;TZID=America/Los_Angeles:20240203T140000
DTSTAMP:20260420T204403
CREATED:20240129T170124Z
LAST-MODIFIED:20250224T171043Z
UID:23215-1706950800-1706968800@roliroti.com
SUMMARY:Downtown Berkeley Farmers' Market
DESCRIPTION:
URL:https://roliroti.com/event/downtown-berkeley-farmers-market/2024-02-03/
LOCATION:Center St\, Berkeley\, CA 94704\, 1947 Center Street\, Berkeley\, California\, 94704
END:VEVENT
BEGIN:VEVENT
DTSTART;TZID=America/Los_Angeles:20240412T160000
DTEND;TZID=America/Los_Angeles:20240412T200000
DTSTAMP:20260420T204403
CREATED:20240412T221247Z
LAST-MODIFIED:20240627T203925Z
UID:24216-1712937600-1712952000@roliroti.com
SUMMARY:Livermore Farmers' Market
DESCRIPTION:2155 Third St\, Livermore\, CA 94550
URL:https://roliroti.com/event/livermore-farmers-market-4/2024-04-12/
END:VEVENT
BEGIN:VEVENT
DTSTART;TZID=America/Los_Angeles:20240507T160000
DTEND;TZID=America/Los_Angeles:20240507T200000
DTSTAMP:20260420T204403
CREATED:20240508T192254Z
LAST-MODIFIED:20241106T183632Z
UID:24600-1715097600-1715112000@roliroti.com
SUMMARY:Downtown Novato Farmers Market
DESCRIPTION:901 Sherman Ave\, Novato\, CA 94945
URL:https://roliroti.com/event/downtown-novato-farmers-market-2/2024-05-07/
END:VEVENT
BEGIN:VEVENT
DTSTART;TZID=America/Los_Angeles:20241109T150000
DTEND;TZID=America/Los_Angeles:20241109T190000
DTSTAMP:20260420T204403
CREATED:20241105T195156Z
LAST-MODIFIED:20250117T232040Z
UID:26492-1731164400-1731178800@roliroti.com
SUMMARY:Oakland Temescal
DESCRIPTION:
URL:https://roliroti.com/event/oakland-temescal/2024-11-09/
LOCATION:51st and Telegraph\, Telegraph Ave & 51st St\, Oakland\, CA\, 94621\, United States
END:VEVENT
BEGIN:VEVENT
DTSTART;TZID=America/Los_Angeles:20251201T150000
DTEND;TZID=America/Los_Angeles:20251201T190000
DTSTAMP:20260420T204403
CREATED:20251203T001843Z
LAST-MODIFIED:20251203T001843Z
UID:28197-1764601200-1764615600@roliroti.com
SUMMARY:DeMartini Orchard Farmers' Market
DESCRIPTION:
URL:https://roliroti.com/event/demartini-orchard-farmers-market/2025-12-01/
END:VEVENT
BEGIN:VEVENT
DTSTART;TZID=America/Los_Angeles:20260120T100000
DTEND;TZID=America/Los_Angeles:20260120T140000
DTSTAMP:20260420T204403
CREATED:20230103T172422Z
LAST-MODIFIED:20230103T172422Z
UID:22912-1768903200-1768917600@roliroti.com
SUMMARY:San Francisco Ferry Building
DESCRIPTION:
URL:https://roliroti.com/event/san-francisco-ferry-building-19/2026-01-20/
LOCATION:San Francisco Ferry Building\, 1 The Embarcadero\, San Francisco\, CA\, 94105\, United States
END:VEVENT
BEGIN:VEVENT
DTSTART;TZID=America/Los_Angeles:20260122T080000
DTEND;TZID=America/Los_Angeles:20260122T130000
DTSTAMP:20260420T204403
CREATED:20230514T233745Z
LAST-MODIFIED:20240701T172304Z
UID:23059-1769068800-1769086800@roliroti.com
SUMMARY:San Rafael Civic Center
DESCRIPTION:
URL:https://roliroti.com/event/san-rafael-civic-center-20/2026-01-22/
LOCATION:San Rafael Civic Center\, 3501 Civic Center Dr\,\, San Rafael\, CA\, 94903\, United States
END:VEVENT
BEGIN:VEVENT
DTSTART;TZID=America/Los_Angeles:20260122T090000
DTEND;TZID=America/Los_Angeles:20260122T130000
DTSTAMP:20260420T204403
CREATED:20230514T233700Z
LAST-MODIFIED:20241121T234025Z
UID:23062-1769072400-1769086800@roliroti.com
SUMMARY:Daly City Farmer's Market
DESCRIPTION:
URL:https://roliroti.com/event/daly-city-farmers-market-14/2026-01-22/
LOCATION:Daly City Farmer’s Market\, 59 Serramonte Center\, Daly City\, CA\, 94015\, United States
END:VEVENT
BEGIN:VEVENT
DTSTART;TZID=America/Los_Angeles:20260122T100000
DTEND;TZID=America/Los_Angeles:20260122T140000
DTSTAMP:20260420T204403
CREATED:20230108T094019Z
LAST-MODIFIED:20230108T094019Z
UID:23057-1769076000-1769090400@roliroti.com
SUMMARY:San Francisco Ferry Building
DESCRIPTION:
URL:https://roliroti.com/event/san-francisco-ferry-building-20/2026-01-22/
LOCATION:San Francisco Ferry Building\, 1 The Embarcadero\, San Francisco\, CA\, 94105\, United States
END:VEVENT
BEGIN:VEVENT
DTSTART;TZID=America/Los_Angeles:20260123T090000
DTEND;TZID=America/Los_Angeles:20260123T140000
DTSTAMP:20260420T204403
CREATED:20230108T094434Z
LAST-MODIFIED:20230108T094434Z
UID:23063-1769158800-1769176800@roliroti.com
SUMMARY:Old Oakland Farmers' Market
DESCRIPTION:
URL:https://roliroti.com/event/old-oakland-farmers-market/2026-01-23/
LOCATION:Oakland Farmer’s Market\, 9th Street & Broadway\, Oakland\, CA\, 94607\, United States
END:VEVENT
BEGIN:VEVENT
DTSTART;TZID=America/Los_Angeles:20260124T090000
DTEND;TZID=America/Los_Angeles:20260124T130000
DTSTAMP:20260420T204403
CREATED:20230103T174041Z
LAST-MODIFIED:20240617T161840Z
UID:23067-1769245200-1769259600@roliroti.com
SUMMARY:Pleasanton Farmer's Market
DESCRIPTION:
URL:https://roliroti.com/event/pleasanton-farmers-market-8/2026-01-24/
LOCATION:Pleasanton Farmer’s Market\, W Angela St and Main St\, Pleasonton\, CA\, 94566\, United States
END:VEVENT
BEGIN:VEVENT
DTSTART;TZID=America/Los_Angeles:20260124T090000
DTEND;TZID=America/Los_Angeles:20260124T130000
DTSTAMP:20260420T204403
CREATED:20230729T013133Z
LAST-MODIFIED:20230729T013133Z
UID:23064-1769245200-1769259600@roliroti.com
SUMMARY:Saratoga Farmers Market
DESCRIPTION:
URL:https://roliroti.com/event/saratoga-farmers-market-8/2026-01-24/
LOCATION:Saratoga Farmer’s Market\, Allendale Ave & Science Way\, Saratoga\, CA\, 95070\, United States
END:VEVENT
BEGIN:VEVENT
DTSTART;TZID=America/Los_Angeles:20260124T090000
DTEND;TZID=America/Los_Angeles:20260124T140000
DTSTAMP:20260420T204403
CREATED:20230103T174000Z
LAST-MODIFIED:20230103T174000Z
UID:28883-1769245200-1769263200@roliroti.com
SUMMARY:San Francisco Ferry Building
DESCRIPTION:
URL:https://roliroti.com/event/san-francisco-ferry-building-21/2026-01-24/
LOCATION:San Francisco Ferry Building\, 1 The Embarcadero\, San Francisco\, CA\, 94105\, United States
END:VEVENT
BEGIN:VEVENT
DTSTART;TZID=America/Los_Angeles:20260124T090000
DTEND;TZID=America/Los_Angeles:20260124T140000
DTSTAMP:20260420T204403
CREATED:20230103T174336Z
LAST-MODIFIED:20230103T174336Z
UID:23066-1769245200-1769263200@roliroti.com
SUMMARY:Grand Lake Farmer's Market
DESCRIPTION:
URL:https://roliroti.com/event/grand-lake-farmers-market-9/2026-01-24/
LOCATION:Grand Lake Farmer’s Market\, Lake Park Ave\, Oakland\, CA\, 94610\, United States
END:VEVENT
BEGIN:VEVENT
DTSTART;TZID=America/Los_Angeles:20260125T083000
DTEND;TZID=America/Los_Angeles:20260125T130000
DTSTAMP:20260420T204403
CREATED:20230103T174708Z
LAST-MODIFIED:20230103T174708Z
UID:29000-1769329800-1769346000@roliroti.com
SUMMARY:San Rafael Civic Center
DESCRIPTION:
URL:https://roliroti.com/event/san-rafael-civic-center-19/2026-01-25/
LOCATION:San Rafael Civic Center\, 3501 Civic Center Dr\,\, San Rafael\, CA\, 94903\, United States
END:VEVENT
BEGIN:VEVENT
DTSTART;TZID=America/Los_Angeles:20260125T090000
DTEND;TZID=America/Los_Angeles:20260125T130000
DTSTAMP:20260420T204403
CREATED:20230103T174438Z
LAST-MODIFIED:20240330T002805Z
UID:23072-1769331600-1769346000@roliroti.com
SUMMARY:Stonestown Farmers Market
DESCRIPTION:
URL:https://roliroti.com/event/stonestown-farmers-market/2026-01-25/
LOCATION:Stonestown\, 3251 20th Ave\, San Francisco\, CA\, 94132\, United States
END:VEVENT
BEGIN:VEVENT
DTSTART;TZID=America/Los_Angeles:20260125T090000
DTEND;TZID=America/Los_Angeles:20260125T130000
DTSTAMP:20260420T204403
CREATED:20230108T094844Z
LAST-MODIFIED:20240329T233052Z
UID:23070-1769331600-1769346000@roliroti.com
SUMMARY:Montclair Farmers' Market
DESCRIPTION:
URL:https://roliroti.com/event/montclair-farmers-market-10/2026-01-25/
LOCATION:Montclair Farmer’s Market\, La Salle Ave between Mountain and Moraga Ave.\, Oakland\, CA\, 94611\, United States
END:VEVENT
BEGIN:VEVENT
DTSTART;TZID=America/Los_Angeles:20260125T090000
DTEND;TZID=America/Los_Angeles:20260125T130000
DTSTAMP:20260420T204403
CREATED:20230514T234309Z
LAST-MODIFIED:20230514T234309Z
UID:23214-1769331600-1769346000@roliroti.com
SUMMARY:Temescal Farmers' Market
DESCRIPTION:
URL:https://roliroti.com/event/temescal-farmers-market-7/2026-01-25/
LOCATION:Temescal Farmers’ Market\, 5300 Claremont Ave\, Oakland\, CA\, 94618\, United States
END:VEVENT
BEGIN:VEVENT
DTSTART;TZID=America/Los_Angeles:20260125T090000
DTEND;TZID=America/Los_Angeles:20260125T150000
DTSTAMP:20260420T204403
CREATED:20230103T174630Z
LAST-MODIFIED:20230103T174630Z
UID:29177-1769331600-1769353200@roliroti.com
SUMMARY:Palo Alto Farmer's Market
DESCRIPTION:
URL:https://roliroti.com/event/palo-alto-farmers-market-9/2026-01-25/
LOCATION:Palo Alto Farmer’s Market\, California Avenue & El Camino\, Palo Alto\, CA\, 94306\, United States
END:VEVENT
BEGIN:VEVENT
DTSTART;TZID=America/Los_Angeles:20260125T093000
DTEND;TZID=America/Los_Angeles:20260125T140000
DTSTAMP:20260420T204403
CREATED:20230103T174520Z
LAST-MODIFIED:20230103T174520Z
UID:29223-1769333400-1769349600@roliroti.com
SUMMARY:SF Fort Mason Farmers' Market
DESCRIPTION:
URL:https://roliroti.com/event/sf-fort-mason-2/2026-01-25/
LOCATION:Fort Mason Farmer’s Market\, Fort Mason Center\, Marina Blvd\, San Francisco\, CA\, 94109\, United States
END:VEVENT
BEGIN:VEVENT
DTSTART;TZID=America/Los_Angeles:20260126T143000
DTEND;TZID=America/Los_Angeles:20260126T190000
DTSTAMP:20260420T204403
CREATED:20230514T232805Z
LAST-MODIFIED:20230514T232805Z
UID:23074-1769437800-1769454000@roliroti.com
SUMMARY:Rocky's Market
DESCRIPTION:
URL:https://roliroti.com/event/rockys-market-8/2026-01-26/
LOCATION:Rocky’s Market\, 1440 Leimert Blvd\, Oakland\, CA\, 94602\, United States
END:VEVENT
BEGIN:VEVENT
DTSTART;TZID=America/Los_Angeles:20260303T090000
DTEND;TZID=America/Los_Angeles:20260303T130000
DTSTAMP:20260420T204403
CREATED:20260324T183823Z
LAST-MODIFIED:20260324T183823Z
UID:28654-1772528400-1772542800@roliroti.com
SUMMARY:Alameda Farmers' Market
DESCRIPTION:
URL:https://roliroti.com/event/alameda-farmers-market/2026-03-03/
END:VEVENT
BEGIN:VEVENT
DTSTART;TZID=America/Los_Angeles:20260305T140000
DTEND;TZID=America/Los_Angeles:20260305T180000
DTSTAMP:20260420T204403
CREATED:20230514T233557Z
LAST-MODIFIED:20260324T195257Z
UID:19366-1772719200-1772733600@roliroti.com
SUMMARY:Portola Valley Farmer's Market
DESCRIPTION:765 Portola Rd Portola Valley\, CA 94028
URL:https://roliroti.com/event/portola-valley-farmers-market-12/2026-03-05/
LOCATION:Portola Valley Farmer’s Market\, 765 Portola Road\, Portola Valley\, CA\, 94028\, United States
END:VEVENT
BEGIN:VEVENT
DTSTART;TZID=America/Los_Angeles:20260305T150000
DTEND;TZID=America/Los_Angeles:20260305T190000
DTSTAMP:20260420T204403
CREATED:20210510T151402Z
LAST-MODIFIED:20240627T204853Z
UID:25598-1772722800-1772737200@roliroti.com
SUMMARY:Burlingame Farmers' Market
DESCRIPTION:
URL:https://roliroti.com/event/burlingame-farmers-market-4/2026-03-05/
END:VEVENT
BEGIN:VEVENT
DTSTART;TZID=America/Los_Angeles:20260305T150000
DTEND;TZID=America/Los_Angeles:20260305T190000
DTSTAMP:20260420T204403
CREATED:20221108T201413Z
LAST-MODIFIED:20260324T200448Z
UID:18257-1772722800-1772737200@roliroti.com
SUMMARY:Mission Mercado
DESCRIPTION:
URL:https://roliroti.com/event/mission-mercado-5/2026-03-05/
LOCATION:Mission Mercado\, 84 Bartlett St\, San Francisco\, CA\, 94110\, United States
END:VEVENT
END:VCALENDAR