BEGIN:VCALENDAR
VERSION:2.0
PRODID:-//Roli Roti - ECPv6.15.20//NONSGML v1.0//EN
CALSCALE:GREGORIAN
METHOD:PUBLISH
X-ORIGINAL-URL:https://roliroti.com
X-WR-CALDESC:Events for Roli Roti
REFRESH-INTERVAL;VALUE=DURATION:PT1H
X-Robots-Tag:noindex
X-PUBLISHED-TTL:PT1H
BEGIN:VTIMEZONE
TZID:America/Los_Angeles
BEGIN:DAYLIGHT
TZOFFSETFROM:-0800
TZOFFSETTO:-0700
TZNAME:PDT
DTSTART:20250309T100000
END:DAYLIGHT
BEGIN:STANDARD
TZOFFSETFROM:-0700
TZOFFSETTO:-0800
TZNAME:PST
DTSTART:20251102T090000
END:STANDARD
BEGIN:DAYLIGHT
TZOFFSETFROM:-0800
TZOFFSETTO:-0700
TZNAME:PDT
DTSTART:20260308T100000
END:DAYLIGHT
BEGIN:STANDARD
TZOFFSETFROM:-0700
TZOFFSETTO:-0800
TZNAME:PST
DTSTART:20261101T090000
END:STANDARD
BEGIN:DAYLIGHT
TZOFFSETFROM:-0800
TZOFFSETTO:-0700
TZNAME:PDT
DTSTART:20270314T100000
END:DAYLIGHT
BEGIN:STANDARD
TZOFFSETFROM:-0700
TZOFFSETTO:-0800
TZNAME:PST
DTSTART:20271107T090000
END:STANDARD
END:VTIMEZONE
BEGIN:VEVENT
DTSTART;TZID=America/Los_Angeles:20260418T090000
DTEND;TZID=America/Los_Angeles:20260418T130000
DTSTAMP:20260423T074700
CREATED:20260324T190618Z
LAST-MODIFIED:20260324T190618Z
UID:29340-1776502800-1776517200@roliroti.com
SUMMARY:Sunnyvale Farmers Market
DESCRIPTION:
URL:https://roliroti.com/event/sunnyvale-farmers-market/2026-04-18/
END:VEVENT
BEGIN:VEVENT
DTSTART;TZID=America/Los_Angeles:20260411T090000
DTEND;TZID=America/Los_Angeles:20260411T130000
DTSTAMP:20260423T074700
CREATED:20260324T190618Z
LAST-MODIFIED:20260324T190618Z
UID:29339-1775898000-1775912400@roliroti.com
SUMMARY:Sunnyvale Farmers Market
DESCRIPTION:
URL:https://roliroti.com/event/sunnyvale-farmers-market/2026-04-11/
END:VEVENT
BEGIN:VEVENT
DTSTART;TZID=America/Los_Angeles:20260404T090000
DTEND;TZID=America/Los_Angeles:20260404T130000
DTSTAMP:20260423T074700
CREATED:20260324T190618Z
LAST-MODIFIED:20260324T190618Z
UID:29338-1775293200-1775307600@roliroti.com
SUMMARY:Sunnyvale Farmers Market
DESCRIPTION:
URL:https://roliroti.com/event/sunnyvale-farmers-market/2026-04-04/
END:VEVENT
BEGIN:VEVENT
DTSTART;TZID=America/Los_Angeles:20260328T090000
DTEND;TZID=America/Los_Angeles:20260328T130000
DTSTAMP:20260423T074700
CREATED:20260324T190618Z
LAST-MODIFIED:20260324T190618Z
UID:29337-1774688400-1774702800@roliroti.com
SUMMARY:Sunnyvale Farmers Market
DESCRIPTION:
URL:https://roliroti.com/event/sunnyvale-farmers-market/2026-03-28/
END:VEVENT
END:VCALENDAR