BEGIN:VCALENDAR
VERSION:2.0
PRODID:-//Roli Roti - ECPv6.15.20//NONSGML v1.0//EN
CALSCALE:GREGORIAN
METHOD:PUBLISH
X-ORIGINAL-URL:https://roliroti.com
X-WR-CALDESC:Events for Roli Roti
REFRESH-INTERVAL;VALUE=DURATION:PT1H
X-Robots-Tag:noindex
X-PUBLISHED-TTL:PT1H
BEGIN:VTIMEZONE
TZID:America/Los_Angeles
BEGIN:DAYLIGHT
TZOFFSETFROM:-0800
TZOFFSETTO:-0700
TZNAME:PDT
DTSTART:20250309T100000
END:DAYLIGHT
BEGIN:STANDARD
TZOFFSETFROM:-0700
TZOFFSETTO:-0800
TZNAME:PST
DTSTART:20251102T090000
END:STANDARD
BEGIN:DAYLIGHT
TZOFFSETFROM:-0800
TZOFFSETTO:-0700
TZNAME:PDT
DTSTART:20260308T100000
END:DAYLIGHT
BEGIN:STANDARD
TZOFFSETFROM:-0700
TZOFFSETTO:-0800
TZNAME:PST
DTSTART:20261101T090000
END:STANDARD
BEGIN:DAYLIGHT
TZOFFSETFROM:-0800
TZOFFSETTO:-0700
TZNAME:PDT
DTSTART:20270314T100000
END:DAYLIGHT
BEGIN:STANDARD
TZOFFSETFROM:-0700
TZOFFSETTO:-0800
TZNAME:PST
DTSTART:20271107T090000
END:STANDARD
END:VTIMEZONE
BEGIN:VEVENT
DTSTART;TZID=America/Los_Angeles:20260423T140000
DTEND;TZID=America/Los_Angeles:20260423T180000
DTSTAMP:20260422T080054
CREATED:20230514T233557Z
LAST-MODIFIED:20230514T233557Z
UID:29486-1776952800-1776967200@roliroti.com
SUMMARY:Portola Valley Farmer's Market
DESCRIPTION:765 Portola Rd Portola Valley\, CA 94028
URL:https://roliroti.com/event/portola-valley-farmers-market-12/2026-04-23/
LOCATION:Portola Valley Farmer’s Market\, 765 Portola Road\, Portola Valley\, CA\, 94028\, United States
END:VEVENT
BEGIN:VEVENT
DTSTART;TZID=America/Los_Angeles:20260430T140000
DTEND;TZID=America/Los_Angeles:20260430T180000
DTSTAMP:20260422T080054
CREATED:20230514T233557Z
LAST-MODIFIED:20230514T233557Z
UID:29487-1777557600-1777572000@roliroti.com
SUMMARY:Portola Valley Farmer's Market
DESCRIPTION:765 Portola Rd Portola Valley\, CA 94028
URL:https://roliroti.com/event/portola-valley-farmers-market-12/2026-04-30/
LOCATION:Portola Valley Farmer’s Market\, 765 Portola Road\, Portola Valley\, CA\, 94028\, United States
END:VEVENT
BEGIN:VEVENT
DTSTART;TZID=America/Los_Angeles:20260507T140000
DTEND;TZID=America/Los_Angeles:20260507T180000
DTSTAMP:20260422T080054
CREATED:20230514T233557Z
LAST-MODIFIED:20230514T233557Z
UID:29488-1778162400-1778176800@roliroti.com
SUMMARY:Portola Valley Farmer's Market
DESCRIPTION:765 Portola Rd Portola Valley\, CA 94028
URL:https://roliroti.com/event/portola-valley-farmers-market-12/2026-05-07/
LOCATION:Portola Valley Farmer’s Market\, 765 Portola Road\, Portola Valley\, CA\, 94028\, United States
END:VEVENT
BEGIN:VEVENT
DTSTART;TZID=America/Los_Angeles:20260514T140000
DTEND;TZID=America/Los_Angeles:20260514T180000
DTSTAMP:20260422T080054
CREATED:20230514T233557Z
LAST-MODIFIED:20230514T233557Z
UID:29489-1778767200-1778781600@roliroti.com
SUMMARY:Portola Valley Farmer's Market
DESCRIPTION:765 Portola Rd Portola Valley\, CA 94028
URL:https://roliroti.com/event/portola-valley-farmers-market-12/2026-05-14/
LOCATION:Portola Valley Farmer’s Market\, 765 Portola Road\, Portola Valley\, CA\, 94028\, United States
END:VEVENT
BEGIN:VEVENT
DTSTART;TZID=America/Los_Angeles:20260521T140000
DTEND;TZID=America/Los_Angeles:20260521T180000
DTSTAMP:20260422T080054
CREATED:20230514T233557Z
LAST-MODIFIED:20230514T233557Z
UID:29490-1779372000-1779386400@roliroti.com
SUMMARY:Portola Valley Farmer's Market
DESCRIPTION:765 Portola Rd Portola Valley\, CA 94028
URL:https://roliroti.com/event/portola-valley-farmers-market-12/2026-05-21/
LOCATION:Portola Valley Farmer’s Market\, 765 Portola Road\, Portola Valley\, CA\, 94028\, United States
END:VEVENT
BEGIN:VEVENT
DTSTART;TZID=America/Los_Angeles:20260528T140000
DTEND;TZID=America/Los_Angeles:20260528T180000
DTSTAMP:20260422T080054
CREATED:20230514T233557Z
LAST-MODIFIED:20230514T233557Z
UID:29491-1779976800-1779991200@roliroti.com
SUMMARY:Portola Valley Farmer's Market
DESCRIPTION:765 Portola Rd Portola Valley\, CA 94028
URL:https://roliroti.com/event/portola-valley-farmers-market-12/2026-05-28/
LOCATION:Portola Valley Farmer’s Market\, 765 Portola Road\, Portola Valley\, CA\, 94028\, United States
END:VEVENT
BEGIN:VEVENT
DTSTART;TZID=America/Los_Angeles:20260604T140000
DTEND;TZID=America/Los_Angeles:20260604T180000
DTSTAMP:20260422T080054
CREATED:20230514T233557Z
LAST-MODIFIED:20230514T233557Z
UID:29492-1780581600-1780596000@roliroti.com
SUMMARY:Portola Valley Farmer's Market
DESCRIPTION:765 Portola Rd Portola Valley\, CA 94028
URL:https://roliroti.com/event/portola-valley-farmers-market-12/2026-06-04/
LOCATION:Portola Valley Farmer’s Market\, 765 Portola Road\, Portola Valley\, CA\, 94028\, United States
END:VEVENT
BEGIN:VEVENT
DTSTART;TZID=America/Los_Angeles:20260611T140000
DTEND;TZID=America/Los_Angeles:20260611T180000
DTSTAMP:20260422T080054
CREATED:20230514T233557Z
LAST-MODIFIED:20230514T233557Z
UID:29493-1781186400-1781200800@roliroti.com
SUMMARY:Portola Valley Farmer's Market
DESCRIPTION:765 Portola Rd Portola Valley\, CA 94028
URL:https://roliroti.com/event/portola-valley-farmers-market-12/2026-06-11/
LOCATION:Portola Valley Farmer’s Market\, 765 Portola Road\, Portola Valley\, CA\, 94028\, United States
END:VEVENT
BEGIN:VEVENT
DTSTART;TZID=America/Los_Angeles:20260618T140000
DTEND;TZID=America/Los_Angeles:20260618T180000
DTSTAMP:20260422T080054
CREATED:20230514T233557Z
LAST-MODIFIED:20230514T233557Z
UID:29494-1781791200-1781805600@roliroti.com
SUMMARY:Portola Valley Farmer's Market
DESCRIPTION:765 Portola Rd Portola Valley\, CA 94028
URL:https://roliroti.com/event/portola-valley-farmers-market-12/2026-06-18/
LOCATION:Portola Valley Farmer’s Market\, 765 Portola Road\, Portola Valley\, CA\, 94028\, United States
END:VEVENT
BEGIN:VEVENT
DTSTART;TZID=America/Los_Angeles:20260625T140000
DTEND;TZID=America/Los_Angeles:20260625T180000
DTSTAMP:20260422T080054
CREATED:20230514T233557Z
LAST-MODIFIED:20230514T233557Z
UID:29495-1782396000-1782410400@roliroti.com
SUMMARY:Portola Valley Farmer's Market
DESCRIPTION:765 Portola Rd Portola Valley\, CA 94028
URL:https://roliroti.com/event/portola-valley-farmers-market-12/2026-06-25/
LOCATION:Portola Valley Farmer’s Market\, 765 Portola Road\, Portola Valley\, CA\, 94028\, United States
END:VEVENT
BEGIN:VEVENT
DTSTART;TZID=America/Los_Angeles:20260702T140000
DTEND;TZID=America/Los_Angeles:20260702T180000
DTSTAMP:20260422T080054
CREATED:20230514T233557Z
LAST-MODIFIED:20230514T233557Z
UID:29496-1783000800-1783015200@roliroti.com
SUMMARY:Portola Valley Farmer's Market
DESCRIPTION:765 Portola Rd Portola Valley\, CA 94028
URL:https://roliroti.com/event/portola-valley-farmers-market-12/2026-07-02/
LOCATION:Portola Valley Farmer’s Market\, 765 Portola Road\, Portola Valley\, CA\, 94028\, United States
END:VEVENT
BEGIN:VEVENT
DTSTART;TZID=America/Los_Angeles:20260702T140000
DTEND;TZID=America/Los_Angeles:20260702T180000
DTSTAMP:20260422T080054
CREATED:20230514T233557Z
LAST-MODIFIED:20230514T233557Z
UID:29604-1783000800-1783015200@roliroti.com
SUMMARY:Portola Valley Farmer's Market
DESCRIPTION:765 Portola Rd Portola Valley\, CA 94028
URL:https://roliroti.com/event/portola-valley-farmers-market-12/2026-07-02/
LOCATION:Portola Valley Farmer’s Market\, 765 Portola Road\, Portola Valley\, CA\, 94028\, United States
END:VEVENT
BEGIN:VEVENT
DTSTART;TZID=America/Los_Angeles:20260709T140000
DTEND;TZID=America/Los_Angeles:20260709T180000
DTSTAMP:20260422T080054
CREATED:20230514T233557Z
LAST-MODIFIED:20230514T233557Z
UID:29605-1783605600-1783620000@roliroti.com
SUMMARY:Portola Valley Farmer's Market
DESCRIPTION:765 Portola Rd Portola Valley\, CA 94028
URL:https://roliroti.com/event/portola-valley-farmers-market-12/2026-07-09/
LOCATION:Portola Valley Farmer’s Market\, 765 Portola Road\, Portola Valley\, CA\, 94028\, United States
END:VEVENT
BEGIN:VEVENT
DTSTART;TZID=America/Los_Angeles:20260709T140000
DTEND;TZID=America/Los_Angeles:20260709T180000
DTSTAMP:20260422T080054
CREATED:20230514T233557Z
LAST-MODIFIED:20230514T233557Z
UID:29497-1783605600-1783620000@roliroti.com
SUMMARY:Portola Valley Farmer's Market
DESCRIPTION:765 Portola Rd Portola Valley\, CA 94028
URL:https://roliroti.com/event/portola-valley-farmers-market-12/2026-07-09/
LOCATION:Portola Valley Farmer’s Market\, 765 Portola Road\, Portola Valley\, CA\, 94028\, United States
END:VEVENT
BEGIN:VEVENT
DTSTART;TZID=America/Los_Angeles:20260716T140000
DTEND;TZID=America/Los_Angeles:20260716T180000
DTSTAMP:20260422T080054
CREATED:20230514T233557Z
LAST-MODIFIED:20230514T233557Z
UID:29498-1784210400-1784224800@roliroti.com
SUMMARY:Portola Valley Farmer's Market
DESCRIPTION:765 Portola Rd Portola Valley\, CA 94028
URL:https://roliroti.com/event/portola-valley-farmers-market-12/2026-07-16/
LOCATION:Portola Valley Farmer’s Market\, 765 Portola Road\, Portola Valley\, CA\, 94028\, United States
END:VEVENT
BEGIN:VEVENT
DTSTART;TZID=America/Los_Angeles:20260716T140000
DTEND;TZID=America/Los_Angeles:20260716T180000
DTSTAMP:20260422T080054
CREATED:20230514T233557Z
LAST-MODIFIED:20230514T233557Z
UID:29606-1784210400-1784224800@roliroti.com
SUMMARY:Portola Valley Farmer's Market
DESCRIPTION:765 Portola Rd Portola Valley\, CA 94028
URL:https://roliroti.com/event/portola-valley-farmers-market-12/2026-07-16/
LOCATION:Portola Valley Farmer’s Market\, 765 Portola Road\, Portola Valley\, CA\, 94028\, United States
END:VEVENT
BEGIN:VEVENT
DTSTART;TZID=America/Los_Angeles:20260723T140000
DTEND;TZID=America/Los_Angeles:20260723T180000
DTSTAMP:20260422T080054
CREATED:20230514T233557Z
LAST-MODIFIED:20230514T233557Z
UID:29499-1784815200-1784829600@roliroti.com
SUMMARY:Portola Valley Farmer's Market
DESCRIPTION:765 Portola Rd Portola Valley\, CA 94028
URL:https://roliroti.com/event/portola-valley-farmers-market-12/2026-07-23/
LOCATION:Portola Valley Farmer’s Market\, 765 Portola Road\, Portola Valley\, CA\, 94028\, United States
END:VEVENT
BEGIN:VEVENT
DTSTART;TZID=America/Los_Angeles:20260723T140000
DTEND;TZID=America/Los_Angeles:20260723T180000
DTSTAMP:20260422T080054
CREATED:20230514T233557Z
LAST-MODIFIED:20230514T233557Z
UID:29607-1784815200-1784829600@roliroti.com
SUMMARY:Portola Valley Farmer's Market
DESCRIPTION:765 Portola Rd Portola Valley\, CA 94028
URL:https://roliroti.com/event/portola-valley-farmers-market-12/2026-07-23/
LOCATION:Portola Valley Farmer’s Market\, 765 Portola Road\, Portola Valley\, CA\, 94028\, United States
END:VEVENT
BEGIN:VEVENT
DTSTART;TZID=America/Los_Angeles:20260730T140000
DTEND;TZID=America/Los_Angeles:20260730T180000
DTSTAMP:20260422T080054
CREATED:20230514T233557Z
LAST-MODIFIED:20230514T233557Z
UID:29608-1785420000-1785434400@roliroti.com
SUMMARY:Portola Valley Farmer's Market
DESCRIPTION:765 Portola Rd Portola Valley\, CA 94028
URL:https://roliroti.com/event/portola-valley-farmers-market-12/2026-07-30/
LOCATION:Portola Valley Farmer’s Market\, 765 Portola Road\, Portola Valley\, CA\, 94028\, United States
END:VEVENT
BEGIN:VEVENT
DTSTART;TZID=America/Los_Angeles:20260730T140000
DTEND;TZID=America/Los_Angeles:20260730T180000
DTSTAMP:20260422T080054
CREATED:20230514T233557Z
LAST-MODIFIED:20230514T233557Z
UID:29500-1785420000-1785434400@roliroti.com
SUMMARY:Portola Valley Farmer's Market
DESCRIPTION:765 Portola Rd Portola Valley\, CA 94028
URL:https://roliroti.com/event/portola-valley-farmers-market-12/2026-07-30/
LOCATION:Portola Valley Farmer’s Market\, 765 Portola Road\, Portola Valley\, CA\, 94028\, United States
END:VEVENT
BEGIN:VEVENT
DTSTART;TZID=America/Los_Angeles:20260806T140000
DTEND;TZID=America/Los_Angeles:20260806T180000
DTSTAMP:20260422T080054
CREATED:20230514T233557Z
LAST-MODIFIED:20230514T233557Z
UID:29609-1786024800-1786039200@roliroti.com
SUMMARY:Portola Valley Farmer's Market
DESCRIPTION:765 Portola Rd Portola Valley\, CA 94028
URL:https://roliroti.com/event/portola-valley-farmers-market-12/2026-08-06/
LOCATION:Portola Valley Farmer’s Market\, 765 Portola Road\, Portola Valley\, CA\, 94028\, United States
END:VEVENT
BEGIN:VEVENT
DTSTART;TZID=America/Los_Angeles:20260806T140000
DTEND;TZID=America/Los_Angeles:20260806T180000
DTSTAMP:20260422T080054
CREATED:20230514T233557Z
LAST-MODIFIED:20230514T233557Z
UID:29501-1786024800-1786039200@roliroti.com
SUMMARY:Portola Valley Farmer's Market
DESCRIPTION:765 Portola Rd Portola Valley\, CA 94028
URL:https://roliroti.com/event/portola-valley-farmers-market-12/2026-08-06/
LOCATION:Portola Valley Farmer’s Market\, 765 Portola Road\, Portola Valley\, CA\, 94028\, United States
END:VEVENT
BEGIN:VEVENT
DTSTART;TZID=America/Los_Angeles:20260813T140000
DTEND;TZID=America/Los_Angeles:20260813T180000
DTSTAMP:20260422T080054
CREATED:20230514T233557Z
LAST-MODIFIED:20230514T233557Z
UID:29610-1786629600-1786644000@roliroti.com
SUMMARY:Portola Valley Farmer's Market
DESCRIPTION:765 Portola Rd Portola Valley\, CA 94028
URL:https://roliroti.com/event/portola-valley-farmers-market-12/2026-08-13/
LOCATION:Portola Valley Farmer’s Market\, 765 Portola Road\, Portola Valley\, CA\, 94028\, United States
END:VEVENT
BEGIN:VEVENT
DTSTART;TZID=America/Los_Angeles:20260813T140000
DTEND;TZID=America/Los_Angeles:20260813T180000
DTSTAMP:20260422T080054
CREATED:20230514T233557Z
LAST-MODIFIED:20230514T233557Z
UID:29502-1786629600-1786644000@roliroti.com
SUMMARY:Portola Valley Farmer's Market
DESCRIPTION:765 Portola Rd Portola Valley\, CA 94028
URL:https://roliroti.com/event/portola-valley-farmers-market-12/2026-08-13/
LOCATION:Portola Valley Farmer’s Market\, 765 Portola Road\, Portola Valley\, CA\, 94028\, United States
END:VEVENT
BEGIN:VEVENT
DTSTART;TZID=America/Los_Angeles:20260820T140000
DTEND;TZID=America/Los_Angeles:20260820T180000
DTSTAMP:20260422T080054
CREATED:20230514T233557Z
LAST-MODIFIED:20230514T233557Z
UID:29611-1787234400-1787248800@roliroti.com
SUMMARY:Portola Valley Farmer's Market
DESCRIPTION:765 Portola Rd Portola Valley\, CA 94028
URL:https://roliroti.com/event/portola-valley-farmers-market-12/2026-08-20/
LOCATION:Portola Valley Farmer’s Market\, 765 Portola Road\, Portola Valley\, CA\, 94028\, United States
END:VEVENT
BEGIN:VEVENT
DTSTART;TZID=America/Los_Angeles:20260820T140000
DTEND;TZID=America/Los_Angeles:20260820T180000
DTSTAMP:20260422T080054
CREATED:20230514T233557Z
LAST-MODIFIED:20230514T233557Z
UID:29503-1787234400-1787248800@roliroti.com
SUMMARY:Portola Valley Farmer's Market
DESCRIPTION:765 Portola Rd Portola Valley\, CA 94028
URL:https://roliroti.com/event/portola-valley-farmers-market-12/2026-08-20/
LOCATION:Portola Valley Farmer’s Market\, 765 Portola Road\, Portola Valley\, CA\, 94028\, United States
END:VEVENT
BEGIN:VEVENT
DTSTART;TZID=America/Los_Angeles:20260827T140000
DTEND;TZID=America/Los_Angeles:20260827T180000
DTSTAMP:20260422T080054
CREATED:20230514T233557Z
LAST-MODIFIED:20230514T233557Z
UID:29612-1787839200-1787853600@roliroti.com
SUMMARY:Portola Valley Farmer's Market
DESCRIPTION:765 Portola Rd Portola Valley\, CA 94028
URL:https://roliroti.com/event/portola-valley-farmers-market-12/2026-08-27/
LOCATION:Portola Valley Farmer’s Market\, 765 Portola Road\, Portola Valley\, CA\, 94028\, United States
END:VEVENT
BEGIN:VEVENT
DTSTART;TZID=America/Los_Angeles:20260827T140000
DTEND;TZID=America/Los_Angeles:20260827T180000
DTSTAMP:20260422T080054
CREATED:20230514T233557Z
LAST-MODIFIED:20230514T233557Z
UID:29504-1787839200-1787853600@roliroti.com
SUMMARY:Portola Valley Farmer's Market
DESCRIPTION:765 Portola Rd Portola Valley\, CA 94028
URL:https://roliroti.com/event/portola-valley-farmers-market-12/2026-08-27/
LOCATION:Portola Valley Farmer’s Market\, 765 Portola Road\, Portola Valley\, CA\, 94028\, United States
END:VEVENT
BEGIN:VEVENT
DTSTART;TZID=America/Los_Angeles:20260903T140000
DTEND;TZID=America/Los_Angeles:20260903T180000
DTSTAMP:20260422T080054
CREATED:20230514T233557Z
LAST-MODIFIED:20230514T233557Z
UID:29505-1788444000-1788458400@roliroti.com
SUMMARY:Portola Valley Farmer's Market
DESCRIPTION:765 Portola Rd Portola Valley\, CA 94028
URL:https://roliroti.com/event/portola-valley-farmers-market-12/2026-09-03/
LOCATION:Portola Valley Farmer’s Market\, 765 Portola Road\, Portola Valley\, CA\, 94028\, United States
END:VEVENT
BEGIN:VEVENT
DTSTART;TZID=America/Los_Angeles:20260903T140000
DTEND;TZID=America/Los_Angeles:20260903T180000
DTSTAMP:20260422T080054
CREATED:20230514T233557Z
LAST-MODIFIED:20230514T233557Z
UID:29613-1788444000-1788458400@roliroti.com
SUMMARY:Portola Valley Farmer's Market
DESCRIPTION:765 Portola Rd Portola Valley\, CA 94028
URL:https://roliroti.com/event/portola-valley-farmers-market-12/2026-09-03/
LOCATION:Portola Valley Farmer’s Market\, 765 Portola Road\, Portola Valley\, CA\, 94028\, United States
END:VEVENT
END:VCALENDAR