BEGIN:VCALENDAR
VERSION:2.0
PRODID:-//Roli Roti - ECPv6.15.20//NONSGML v1.0//EN
CALSCALE:GREGORIAN
METHOD:PUBLISH
X-ORIGINAL-URL:https://roliroti.com
X-WR-CALDESC:Events for Roli Roti
REFRESH-INTERVAL;VALUE=DURATION:PT1H
X-Robots-Tag:noindex
X-PUBLISHED-TTL:PT1H
BEGIN:VTIMEZONE
TZID:Pacific/Honolulu
BEGIN:STANDARD
TZOFFSETFROM:-1000
TZOFFSETTO:-1000
TZNAME:HST
DTSTART:20180101T000000
END:STANDARD
END:VTIMEZONE
BEGIN:VEVENT
DTSTART;TZID=Pacific/Honolulu:20190504T090000
DTEND;TZID=Pacific/Honolulu:20190504T130000
DTSTAMP:20260420T095813
CREATED:20190430T051033Z
LAST-MODIFIED:20190430T051033Z
UID:16382-1556960400-1556974800@roliroti.com
SUMMARY:Pleasanton Farmer's Market
DESCRIPTION:
URL:https://roliroti.com/event/pleasanton-farmers-market-2/2019-05-04/
LOCATION:Pleasanton Farmer’s Market\, W Angela St and Main St\, Pleasonton\, CA\, 94566\, United States
END:VEVENT
END:VCALENDAR