BEGIN:VCALENDAR
VERSION:2.0
PRODID:-//Roli Roti - ECPv6.15.20//NONSGML v1.0//EN
CALSCALE:GREGORIAN
METHOD:PUBLISH
X-ORIGINAL-URL:https://roliroti.com
X-WR-CALDESC:Events for Roli Roti
REFRESH-INTERVAL;VALUE=DURATION:PT1H
X-Robots-Tag:noindex
X-PUBLISHED-TTL:PT1H
BEGIN:VTIMEZONE
TZID:Pacific/Honolulu
BEGIN:STANDARD
TZOFFSETFROM:-1000
TZOFFSETTO:-1000
TZNAME:HST
DTSTART:20180101T000000
END:STANDARD
END:VTIMEZONE
BEGIN:VEVENT
DTSTART;TZID=Pacific/Honolulu:20190507T160000
DTEND;TZID=Pacific/Honolulu:20190507T200000
DTSTAMP:20260422T095142
CREATED:20190507T002701Z
LAST-MODIFIED:20190507T002701Z
UID:16384-1557244800-1557259200@roliroti.com
SUMMARY:Novato Farmers' Market
DESCRIPTION:
URL:https://roliroti.com/event/novato-farmers-market/2019-05-07/
LOCATION:Novato Farmers’ Market\, 7th St\, Novato\, CA\, 94945\, United States
END:VEVENT
END:VCALENDAR