BEGIN:VCALENDAR
VERSION:2.0
PRODID:-//Roli Roti - ECPv6.15.20//NONSGML v1.0//EN
CALSCALE:GREGORIAN
METHOD:PUBLISH
X-WR-CALNAME:Roli Roti
X-ORIGINAL-URL:https://roliroti.com
X-WR-CALDESC:Events for Roli Roti
REFRESH-INTERVAL;VALUE=DURATION:PT1H
X-Robots-Tag:noindex
X-PUBLISHED-TTL:PT1H
BEGIN:VTIMEZONE
TZID:America/Los_Angeles
BEGIN:DAYLIGHT
TZOFFSETFROM:-0800
TZOFFSETTO:-0700
TZNAME:PDT
DTSTART:20250309T100000
END:DAYLIGHT
BEGIN:STANDARD
TZOFFSETFROM:-0700
TZOFFSETTO:-0800
TZNAME:PST
DTSTART:20251102T090000
END:STANDARD
BEGIN:DAYLIGHT
TZOFFSETFROM:-0800
TZOFFSETTO:-0700
TZNAME:PDT
DTSTART:20260308T100000
END:DAYLIGHT
BEGIN:STANDARD
TZOFFSETFROM:-0700
TZOFFSETTO:-0800
TZNAME:PST
DTSTART:20261101T090000
END:STANDARD
BEGIN:DAYLIGHT
TZOFFSETFROM:-0800
TZOFFSETTO:-0700
TZNAME:PDT
DTSTART:20270314T100000
END:DAYLIGHT
BEGIN:STANDARD
TZOFFSETFROM:-0700
TZOFFSETTO:-0800
TZNAME:PST
DTSTART:20271107T090000
END:STANDARD
END:VTIMEZONE
BEGIN:VEVENT
DTSTART;TZID=America/Los_Angeles:20260521T160000
DTEND;TZID=America/Los_Angeles:20260521T200000
DTSTAMP:20260422T024424
CREATED:20230514T233225Z
LAST-MODIFIED:20260324T200049Z
UID:19303-1779379200-1779393600@roliroti.com
SUMMARY:Fairfax Farmers' Market
DESCRIPTION:66 Bolinas Rd\, Fairfax\, CA 94930
URL:https://roliroti.com/event/fairfax-farmers-market-3/2026-05-21/
LOCATION:Fairfax Farmer’s Market\, 124 Bolinas ave.\, Fairfax\, CA\, 94930\, United States
END:VEVENT
BEGIN:VEVENT
DTSTART;TZID=America/Los_Angeles:20260527T160000
DTEND;TZID=America/Los_Angeles:20260527T200000
DTSTAMP:20260422T024424
CREATED:20230514T233225Z
LAST-MODIFIED:20230514T233225Z
UID:29535-1779897600-1779912000@roliroti.com
SUMMARY:Fairfax Farmers' Market
DESCRIPTION:66 Bolinas Rd\, Fairfax\, CA 94930
URL:https://roliroti.com/event/fairfax-farmers-market-3/2026-05-27/
LOCATION:Fairfax Farmer’s Market\, 124 Bolinas ave.\, Fairfax\, CA\, 94930\, United States
END:VEVENT
BEGIN:VEVENT
DTSTART;TZID=America/Los_Angeles:20260603T160000
DTEND;TZID=America/Los_Angeles:20260603T200000
DTSTAMP:20260422T024424
CREATED:20230514T233225Z
LAST-MODIFIED:20230514T233225Z
UID:29536-1780502400-1780516800@roliroti.com
SUMMARY:Fairfax Farmers' Market
DESCRIPTION:66 Bolinas Rd\, Fairfax\, CA 94930
URL:https://roliroti.com/event/fairfax-farmers-market-3/2026-06-03/
LOCATION:Fairfax Farmer’s Market\, 124 Bolinas ave.\, Fairfax\, CA\, 94930\, United States
END:VEVENT
BEGIN:VEVENT
DTSTART;TZID=America/Los_Angeles:20260610T160000
DTEND;TZID=America/Los_Angeles:20260610T200000
DTSTAMP:20260422T024424
CREATED:20230514T233225Z
LAST-MODIFIED:20230514T233225Z
UID:29537-1781107200-1781121600@roliroti.com
SUMMARY:Fairfax Farmers' Market
DESCRIPTION:66 Bolinas Rd\, Fairfax\, CA 94930
URL:https://roliroti.com/event/fairfax-farmers-market-3/2026-06-10/
LOCATION:Fairfax Farmer’s Market\, 124 Bolinas ave.\, Fairfax\, CA\, 94930\, United States
END:VEVENT
BEGIN:VEVENT
DTSTART;TZID=America/Los_Angeles:20260617T160000
DTEND;TZID=America/Los_Angeles:20260617T200000
DTSTAMP:20260422T024424
CREATED:20230514T233225Z
LAST-MODIFIED:20230514T233225Z
UID:29538-1781712000-1781726400@roliroti.com
SUMMARY:Fairfax Farmers' Market
DESCRIPTION:66 Bolinas Rd\, Fairfax\, CA 94930
URL:https://roliroti.com/event/fairfax-farmers-market-3/2026-06-17/
LOCATION:Fairfax Farmer’s Market\, 124 Bolinas ave.\, Fairfax\, CA\, 94930\, United States
END:VEVENT
BEGIN:VEVENT
DTSTART;TZID=America/Los_Angeles:20260624T160000
DTEND;TZID=America/Los_Angeles:20260624T200000
DTSTAMP:20260422T024424
CREATED:20230514T233225Z
LAST-MODIFIED:20230514T233225Z
UID:29539-1782316800-1782331200@roliroti.com
SUMMARY:Fairfax Farmers' Market
DESCRIPTION:66 Bolinas Rd\, Fairfax\, CA 94930
URL:https://roliroti.com/event/fairfax-farmers-market-3/2026-06-24/
LOCATION:Fairfax Farmer’s Market\, 124 Bolinas ave.\, Fairfax\, CA\, 94930\, United States
END:VEVENT
BEGIN:VEVENT
DTSTART;TZID=America/Los_Angeles:20260701T160000
DTEND;TZID=America/Los_Angeles:20260701T200000
DTSTAMP:20260422T024424
CREATED:20230514T233225Z
LAST-MODIFIED:20230514T233225Z
UID:29540-1782921600-1782936000@roliroti.com
SUMMARY:Fairfax Farmers' Market
DESCRIPTION:66 Bolinas Rd\, Fairfax\, CA 94930
URL:https://roliroti.com/event/fairfax-farmers-market-3/2026-07-01/
LOCATION:Fairfax Farmer’s Market\, 124 Bolinas ave.\, Fairfax\, CA\, 94930\, United States
END:VEVENT
BEGIN:VEVENT
DTSTART;TZID=America/Los_Angeles:20260708T160000
DTEND;TZID=America/Los_Angeles:20260708T200000
DTSTAMP:20260422T024424
CREATED:20230514T233225Z
LAST-MODIFIED:20230514T233225Z
UID:29541-1783526400-1783540800@roliroti.com
SUMMARY:Fairfax Farmers' Market
DESCRIPTION:66 Bolinas Rd\, Fairfax\, CA 94930
URL:https://roliroti.com/event/fairfax-farmers-market-3/2026-07-08/
LOCATION:Fairfax Farmer’s Market\, 124 Bolinas ave.\, Fairfax\, CA\, 94930\, United States
END:VEVENT
BEGIN:VEVENT
DTSTART;TZID=America/Los_Angeles:20260715T160000
DTEND;TZID=America/Los_Angeles:20260715T200000
DTSTAMP:20260422T024424
CREATED:20230514T233225Z
LAST-MODIFIED:20230514T233225Z
UID:29542-1784131200-1784145600@roliroti.com
SUMMARY:Fairfax Farmers' Market
DESCRIPTION:66 Bolinas Rd\, Fairfax\, CA 94930
URL:https://roliroti.com/event/fairfax-farmers-market-3/2026-07-15/
LOCATION:Fairfax Farmer’s Market\, 124 Bolinas ave.\, Fairfax\, CA\, 94930\, United States
END:VEVENT
BEGIN:VEVENT
DTSTART;TZID=America/Los_Angeles:20260722T160000
DTEND;TZID=America/Los_Angeles:20260722T200000
DTSTAMP:20260422T024424
CREATED:20230514T233225Z
LAST-MODIFIED:20230514T233225Z
UID:29543-1784736000-1784750400@roliroti.com
SUMMARY:Fairfax Farmers' Market
DESCRIPTION:66 Bolinas Rd\, Fairfax\, CA 94930
URL:https://roliroti.com/event/fairfax-farmers-market-3/2026-07-22/
LOCATION:Fairfax Farmer’s Market\, 124 Bolinas ave.\, Fairfax\, CA\, 94930\, United States
END:VEVENT
BEGIN:VEVENT
DTSTART;TZID=America/Los_Angeles:20260729T160000
DTEND;TZID=America/Los_Angeles:20260729T200000
DTSTAMP:20260422T024424
CREATED:20230514T233225Z
LAST-MODIFIED:20230514T233225Z
UID:29544-1785340800-1785355200@roliroti.com
SUMMARY:Fairfax Farmers' Market
DESCRIPTION:66 Bolinas Rd\, Fairfax\, CA 94930
URL:https://roliroti.com/event/fairfax-farmers-market-3/2026-07-29/
LOCATION:Fairfax Farmer’s Market\, 124 Bolinas ave.\, Fairfax\, CA\, 94930\, United States
END:VEVENT
BEGIN:VEVENT
DTSTART;TZID=America/Los_Angeles:20260805T160000
DTEND;TZID=America/Los_Angeles:20260805T200000
DTSTAMP:20260422T024424
CREATED:20230514T233225Z
LAST-MODIFIED:20230514T233225Z
UID:29545-1785945600-1785960000@roliroti.com
SUMMARY:Fairfax Farmers' Market
DESCRIPTION:66 Bolinas Rd\, Fairfax\, CA 94930
URL:https://roliroti.com/event/fairfax-farmers-market-3/2026-08-05/
LOCATION:Fairfax Farmer’s Market\, 124 Bolinas ave.\, Fairfax\, CA\, 94930\, United States
END:VEVENT
BEGIN:VEVENT
DTSTART;TZID=America/Los_Angeles:20260812T160000
DTEND;TZID=America/Los_Angeles:20260812T200000
DTSTAMP:20260422T024424
CREATED:20230514T233225Z
LAST-MODIFIED:20230514T233225Z
UID:29546-1786550400-1786564800@roliroti.com
SUMMARY:Fairfax Farmers' Market
DESCRIPTION:66 Bolinas Rd\, Fairfax\, CA 94930
URL:https://roliroti.com/event/fairfax-farmers-market-3/2026-08-12/
LOCATION:Fairfax Farmer’s Market\, 124 Bolinas ave.\, Fairfax\, CA\, 94930\, United States
END:VEVENT
BEGIN:VEVENT
DTSTART;TZID=America/Los_Angeles:20260819T160000
DTEND;TZID=America/Los_Angeles:20260819T200000
DTSTAMP:20260422T024424
CREATED:20230514T233225Z
LAST-MODIFIED:20230514T233225Z
UID:29547-1787155200-1787169600@roliroti.com
SUMMARY:Fairfax Farmers' Market
DESCRIPTION:66 Bolinas Rd\, Fairfax\, CA 94930
URL:https://roliroti.com/event/fairfax-farmers-market-3/2026-08-19/
LOCATION:Fairfax Farmer’s Market\, 124 Bolinas ave.\, Fairfax\, CA\, 94930\, United States
END:VEVENT
BEGIN:VEVENT
DTSTART;TZID=America/Los_Angeles:20260826T160000
DTEND;TZID=America/Los_Angeles:20260826T200000
DTSTAMP:20260422T024424
CREATED:20230514T233225Z
LAST-MODIFIED:20230514T233225Z
UID:29548-1787760000-1787774400@roliroti.com
SUMMARY:Fairfax Farmers' Market
DESCRIPTION:66 Bolinas Rd\, Fairfax\, CA 94930
URL:https://roliroti.com/event/fairfax-farmers-market-3/2026-08-26/
LOCATION:Fairfax Farmer’s Market\, 124 Bolinas ave.\, Fairfax\, CA\, 94930\, United States
END:VEVENT
BEGIN:VEVENT
DTSTART;TZID=America/Los_Angeles:20260902T160000
DTEND;TZID=America/Los_Angeles:20260902T200000
DTSTAMP:20260422T024424
CREATED:20230514T233225Z
LAST-MODIFIED:20230514T233225Z
UID:29549-1788364800-1788379200@roliroti.com
SUMMARY:Fairfax Farmers' Market
DESCRIPTION:66 Bolinas Rd\, Fairfax\, CA 94930
URL:https://roliroti.com/event/fairfax-farmers-market-3/2026-09-02/
LOCATION:Fairfax Farmer’s Market\, 124 Bolinas ave.\, Fairfax\, CA\, 94930\, United States
END:VEVENT
BEGIN:VEVENT
DTSTART;TZID=America/Los_Angeles:20260909T160000
DTEND;TZID=America/Los_Angeles:20260909T200000
DTSTAMP:20260422T024424
CREATED:20230514T233225Z
LAST-MODIFIED:20230514T233225Z
UID:29550-1788969600-1788984000@roliroti.com
SUMMARY:Fairfax Farmers' Market
DESCRIPTION:66 Bolinas Rd\, Fairfax\, CA 94930
URL:https://roliroti.com/event/fairfax-farmers-market-3/2026-09-09/
LOCATION:Fairfax Farmer’s Market\, 124 Bolinas ave.\, Fairfax\, CA\, 94930\, United States
END:VEVENT
BEGIN:VEVENT
DTSTART;TZID=America/Los_Angeles:20260916T160000
DTEND;TZID=America/Los_Angeles:20260916T200000
DTSTAMP:20260422T024424
CREATED:20230514T233225Z
LAST-MODIFIED:20230514T233225Z
UID:29551-1789574400-1789588800@roliroti.com
SUMMARY:Fairfax Farmers' Market
DESCRIPTION:66 Bolinas Rd\, Fairfax\, CA 94930
URL:https://roliroti.com/event/fairfax-farmers-market-3/2026-09-16/
LOCATION:Fairfax Farmer’s Market\, 124 Bolinas ave.\, Fairfax\, CA\, 94930\, United States
END:VEVENT
BEGIN:VEVENT
DTSTART;TZID=America/Los_Angeles:20260923T160000
DTEND;TZID=America/Los_Angeles:20260923T200000
DTSTAMP:20260422T024424
CREATED:20230514T233225Z
LAST-MODIFIED:20230514T233225Z
UID:29552-1790179200-1790193600@roliroti.com
SUMMARY:Fairfax Farmers' Market
DESCRIPTION:66 Bolinas Rd\, Fairfax\, CA 94930
URL:https://roliroti.com/event/fairfax-farmers-market-3/2026-09-23/
LOCATION:Fairfax Farmer’s Market\, 124 Bolinas ave.\, Fairfax\, CA\, 94930\, United States
END:VEVENT
BEGIN:VEVENT
DTSTART;TZID=America/Los_Angeles:20260930T160000
DTEND;TZID=America/Los_Angeles:20260930T200000
DTSTAMP:20260422T024424
CREATED:20230514T233225Z
LAST-MODIFIED:20230514T233225Z
UID:29553-1790784000-1790798400@roliroti.com
SUMMARY:Fairfax Farmers' Market
DESCRIPTION:66 Bolinas Rd\, Fairfax\, CA 94930
URL:https://roliroti.com/event/fairfax-farmers-market-3/2026-09-30/
LOCATION:Fairfax Farmer’s Market\, 124 Bolinas ave.\, Fairfax\, CA\, 94930\, United States
END:VEVENT
BEGIN:VEVENT
DTSTART;TZID=America/Los_Angeles:20261007T160000
DTEND;TZID=America/Los_Angeles:20261007T200000
DTSTAMP:20260422T024424
CREATED:20230514T233225Z
LAST-MODIFIED:20230514T233225Z
UID:29554-1791388800-1791403200@roliroti.com
SUMMARY:Fairfax Farmers' Market
DESCRIPTION:66 Bolinas Rd\, Fairfax\, CA 94930
URL:https://roliroti.com/event/fairfax-farmers-market-3/2026-10-07/
LOCATION:Fairfax Farmer’s Market\, 124 Bolinas ave.\, Fairfax\, CA\, 94930\, United States
END:VEVENT
BEGIN:VEVENT
DTSTART;TZID=America/Los_Angeles:20261014T160000
DTEND;TZID=America/Los_Angeles:20261014T200000
DTSTAMP:20260422T024424
CREATED:20230514T233225Z
LAST-MODIFIED:20230514T233225Z
UID:29555-1791993600-1792008000@roliroti.com
SUMMARY:Fairfax Farmers' Market
DESCRIPTION:66 Bolinas Rd\, Fairfax\, CA 94930
URL:https://roliroti.com/event/fairfax-farmers-market-3/2026-10-14/
LOCATION:Fairfax Farmer’s Market\, 124 Bolinas ave.\, Fairfax\, CA\, 94930\, United States
END:VEVENT
END:VCALENDAR