BEGIN:VCALENDAR
VERSION:2.0
PRODID:-//Roli Roti - ECPv6.15.20//NONSGML v1.0//EN
CALSCALE:GREGORIAN
METHOD:PUBLISH
X-WR-CALNAME:Roli Roti
X-ORIGINAL-URL:https://roliroti.com
X-WR-CALDESC:Events for Roli Roti
REFRESH-INTERVAL;VALUE=DURATION:PT1H
X-Robots-Tag:noindex
X-PUBLISHED-TTL:PT1H
BEGIN:VTIMEZONE
TZID:America/Los_Angeles
BEGIN:DAYLIGHT
TZOFFSETFROM:-0800
TZOFFSETTO:-0700
TZNAME:PDT
DTSTART:20220313T100000
END:DAYLIGHT
BEGIN:STANDARD
TZOFFSETFROM:-0700
TZOFFSETTO:-0800
TZNAME:PST
DTSTART:20221106T090000
END:STANDARD
BEGIN:DAYLIGHT
TZOFFSETFROM:-0800
TZOFFSETTO:-0700
TZNAME:PDT
DTSTART:20230312T100000
END:DAYLIGHT
BEGIN:STANDARD
TZOFFSETFROM:-0700
TZOFFSETTO:-0800
TZNAME:PST
DTSTART:20231105T090000
END:STANDARD
BEGIN:DAYLIGHT
TZOFFSETFROM:-0800
TZOFFSETTO:-0700
TZNAME:PDT
DTSTART:20240310T100000
END:DAYLIGHT
BEGIN:STANDARD
TZOFFSETFROM:-0700
TZOFFSETTO:-0800
TZNAME:PST
DTSTART:20241103T090000
END:STANDARD
END:VTIMEZONE
BEGIN:VEVENT
DTSTART;TZID=America/Los_Angeles:20230112T090000
DTEND;TZID=America/Los_Angeles:20230112T130000
DTSTAMP:20260423T061949
CREATED:20230108T094117Z
LAST-MODIFIED:20230108T094117Z
UID:18758-1673514000-1673528400@roliroti.com
SUMMARY:Daly City Farmers Market
DESCRIPTION:
URL:https://roliroti.com/event/daly-city-farmers-market-13/2023-01-12/
LOCATION:Daly City Farmer’s Market\, 59 Serramonte Center\, Daly City\, CA\, 94015\, United States
END:VEVENT
END:VCALENDAR